BEGIN:VCALENDAR
VERSION:2.0
PRODID:GlueUp
CALSCALE:GREGORIAN
BEGIN:VTIMEZONE
TZID:UTC
BEGIN:STANDARD
DTSTART:19700101T000000
TZOFFSETFROM:+0000
TZOFFSETTO:+0000
TZNAME:UTC
END:STANDARD
END:VTIMEZONE
BEGIN:VEVENT
TZ:+00
ORGANIZER;CN=Elliott Johnson:MAILTO:ejohnson@amchamchina.org
UID:46079-1776633137@https://amcham.glueup.cn
DTSTAMP:20260419T211217Z
DTSTART:20250115T010000Z
DTEND:20250115T034500Z
SUMMARY:[Beijing, EN] 2025 Policy Priorities Townhall Meeting
DESCRIPTION:[Beijing, EN] 2025 Policy Priorities Townhall Meeting by AmCham China\n\nJan 15, 2025 (9:00 AM - 11:45 AM)(GMT+8)\n\nFor more information, click here: https://amcham.glueup.cn/my/events/46079
LOCATION:AmCham China Office (5C, Floor 5) - East Gate 1 - Pacific Century Place - - 2A Workers’ Stadium North Road - - Chaoyang District Beijing - China
BEGIN:VALARM
TRIGGER:-PT48H
REPEAT:4
DURATION:PT30M
ACTION:DISPLAY
END:VALARM
END:VEVENT
END:VCALENDAR