BEGIN:VCALENDAR
VERSION:2.0
PRODID:GlueUp
CALSCALE:GREGORIAN
BEGIN:VTIMEZONE
TZID:UTC
BEGIN:STANDARD
DTSTART:19700101T000000
TZOFFSETFROM:+0000
TZOFFSETTO:+0000
TZNAME:UTC
END:STANDARD
END:VTIMEZONE
BEGIN:VEVENT
TZ:+00
ORGANIZER;CN=Will Hao:MAILTO:whao@amchamchina.org
UID:47567-1776605956@https://amcham.glueup.cn
DTSTAMP:20260419T133916Z
DTSTART:20250612T070000Z
DTEND:20250612T090000Z
SUMMARY:[Beijing, CN] Social Impact Initiative - Roundtable with CCID
DESCRIPTION:AmCham China发布活动[Beijing, CN] Social Impact Initiative - Roundtable with CCID\n\n2025年06月12日（下午 3:00 - 下午 5:00）(GMT+8)\n\n更多信息，访问https://amcham.glueup.cn/my/events/47567
LOCATION:美敦力办公室 Training Room 1+2 - 中国北京北京市朝阳区东大桥路9号芳草地大厦C座3层
BEGIN:VALARM
TRIGGER:-PT48H
REPEAT:4
DURATION:PT30M
ACTION:DISPLAY
END:VALARM
END:VEVENT
END:VCALENDAR