BEGIN:VCALENDAR
VERSION:2.0
PRODID:GlueUp
CALSCALE:GREGORIAN
BEGIN:VTIMEZONE
TZID:UTC
BEGIN:STANDARD
DTSTART:19700101T000000
TZOFFSETFROM:+0000
TZOFFSETTO:+0000
TZNAME:UTC
END:STANDARD
END:VTIMEZONE
BEGIN:VEVENT
TZ:+00
ORGANIZER;CN=Linda Cheng:MAILTO:lcheng@amchamchina.org
UID:45909-1776640677@https://amcham.glueup.cn
DTSTAMP:20260419T231757Z
DTSTART:20241219T020000Z
DTEND:20241219T080000Z
SUMMARY:[Beijing, CN] On-Site Company Visits to Alibaba and Intel
DESCRIPTION:[Beijing, CN] On-Site Company Visits to Alibaba and Intel by AmCham China\n\nDec 19, 2024 (10:00 AM - 4:00 PM)(GMT+8)\n\nFor more information, click here: https://amcham.glueup.cn/my/events/45909
LOCATION:Alibaba Beijing Chaoyang Science and Technology Park - No. 12A - Laiguangying East Road - Chaoyang District Beijing - China
BEGIN:VALARM
TRIGGER:-PT48H
REPEAT:4
DURATION:PT30M
ACTION:DISPLAY
END:VALARM
END:VEVENT
END:VCALENDAR