BEGIN:VCALENDAR
VERSION:2.0
PRODID:GlueUp
CALSCALE:GREGORIAN
BEGIN:VTIMEZONE
TZID:UTC
BEGIN:STANDARD
DTSTART:19700101T000000
TZOFFSETFROM:+0000
TZOFFSETTO:+0000
TZNAME:UTC
END:STANDARD
END:VTIMEZONE
BEGIN:VEVENT
TZ:+00
ORGANIZER;CN=Dandan Li:MAILTO:dli@amchamchina.org
UID:47514-1776605915@https://amcham.glueup.cn
DTSTAMP:20260419T133835Z
DTSTART:20250613T103000Z
DTEND:20250613T120000Z
SUMMARY:[Beijing, CN] Mind-Body Harmony: Yoga & Mindfulness Healing Workshop
DESCRIPTION:[Beijing, CN] Mind-Body Harmony: Yoga & Mindfulness Healing Workshop by AmCham China\n\nJun 13, 2025 (6:30 PM - 8:00 PM)(GMT+8)\n\nFor more information, click here: https://amcham.glueup.cn/my/events/47514
LOCATION:TRACTION Wellness Center - 4F - East Gate 1 - Pacific Century Place - 2A Workers' Stadium North Road - 北京市朝阳区工体北路甲2号盈科中心东一门4层。 Beijing - Chaoyang District - China
BEGIN:VALARM
TRIGGER:-PT48H
REPEAT:4
DURATION:PT30M
ACTION:DISPLAY
END:VALARM
END:VEVENT
END:VCALENDAR