BEGIN:VCALENDAR
VERSION:2.0
PRODID:GlueUp
CALSCALE:GREGORIAN
BEGIN:VTIMEZONE
TZID:UTC
BEGIN:STANDARD
DTSTART:19700101T000000
TZOFFSETFROM:+0000
TZOFFSETTO:+0000
TZNAME:UTC
END:STANDARD
END:VTIMEZONE
BEGIN:VEVENT
TZ:+00
ORGANIZER;CN=Melody Wen:MAILTO:mwen@amchamchina.org
UID:44984-1776646724@https://amcham.glueup.cn
DTSTAMP:20260420T005844Z
DTSTART:20241116T010000Z
DTEND:20241118T090000Z
SUMMARY:[Beijing, CN] Finance Leadership Elite Program
DESCRIPTION:[Beijing, CN] Finance Leadership Elite Program by AmCham China\n\nNov 16 - 18, 2024(GMT+8)\n\nFor more information, click here: https://amcham.glueup.cn/my/events/44984
LOCATION:AmCham China Office - 3F - East Gate 1 - Pacific Century Place - 2A Workers' Stadium North Road - Beijing - 北京市朝阳区工体北路甲2号盈科中心东一门3层 Beijing - China
BEGIN:VALARM
TRIGGER:-PT48H
REPEAT:4
DURATION:PT30M
ACTION:DISPLAY
END:VALARM
END:VEVENT
END:VCALENDAR