BEGIN:VCALENDAR
VERSION:2.0
PRODID:GlueUp
CALSCALE:GREGORIAN
BEGIN:VTIMEZONE
TZID:UTC
BEGIN:STANDARD
DTSTART:19700101T000000
TZOFFSETFROM:+0000
TZOFFSETTO:+0000
TZNAME:UTC
END:STANDARD
END:VTIMEZONE
BEGIN:VEVENT
TZ:+00
ORGANIZER;CN=Yoyo Wu:MAILTO:ywu@amchamchina.org
UID:45239-1776654627@https://amcham.glueup.cn
DTSTAMP:20260420T031027Z
DTSTART:20241029T053000Z
DTEND:20241029T080000Z
SUMMARY:[Beijing, CN&EN] Reinvent Comms with AI (M2M Event)
DESCRIPTION:[Beijing, CN&EN] Reinvent Comms with AI (M2M Event) by AmCham China\n\nOct 29, 2024 (1:30 PM - 4:00 PM)(GMT+8)\n\nFor more information, click here: https://amcham.glueup.cn/my/events/45239
LOCATION:MTC, Microsoft Building 2 / 微软北京MTC会议室 - 4F - No 5. Danling St - Haidian District - Beijing - 北京市海淀区丹棱街5号微软大厦2号楼4层 Beijing - China
BEGIN:VALARM
TRIGGER:-PT48H
REPEAT:4
DURATION:PT30M
ACTION:DISPLAY
END:VALARM
END:VEVENT
END:VCALENDAR