BEGIN:VCALENDAR
VERSION:2.0
PRODID:GlueUp
CALSCALE:GREGORIAN
BEGIN:VTIMEZONE
TZID:UTC
BEGIN:STANDARD
DTSTART:19700101T000000
TZOFFSETFROM:+0000
TZOFFSETTO:+0000
TZNAME:UTC
END:STANDARD
END:VTIMEZONE
BEGIN:VEVENT
TZ:+00
ORGANIZER;CN=Dandan Li:MAILTO:dli@amchamchina.org
UID:45789-1776619379@https://amcham.glueup.cn
DTSTAMP:20260419T172259Z
DTSTART:20250327T003000Z
DTEND:20250327T120000Z
SUMMARY:[Beijing, CN] Cosmetics and Nutrition Committee Annual Meeting
DESCRIPTION:[Beijing, CN] Cosmetics and Nutrition Committee Annual Meeting by 中国美国商会\n\nMar 27, 2025 (08:30 - 20:00)(GMT+8)\n\nFor more information, click here: https://amcham.glueup.cn/my/events/45789
LOCATION:北京国贸三期酒店 - 北京市朝阳区国贸三期酒店 北京 - China
BEGIN:VALARM
TRIGGER:-PT48H
REPEAT:4
DURATION:PT30M
ACTION:DISPLAY
END:VALARM
END:VEVENT
END:VCALENDAR