BEGIN:VCALENDAR
VERSION:2.0
PRODID:GlueUp
CALSCALE:GREGORIAN
BEGIN:VTIMEZONE
TZID:UTC
BEGIN:STANDARD
DTSTART:19700101T000000
TZOFFSETFROM:+0000
TZOFFSETTO:+0000
TZNAME:UTC
END:STANDARD
END:VTIMEZONE
BEGIN:VEVENT
TZ:+00
ORGANIZER;CN=Will Hao:MAILTO:whao@amchamchina.org
UID:50240-1776943501@https://amcham.glueup.cn
DTSTAMP:20260423T112501Z
DTSTART:20260427T071500Z
DTEND:20260427T090000Z
SUMMARY:[Beijing, CN] CGAC: Roundtable Discussion on IP Protection
DESCRIPTION:[Beijing, CN] CGAC: Roundtable Discussion on IP Protection by AmCham China\n\nApr 27, 2026 (3:15 PM - 5:00 PM)(GMT+8)\n\nFor more information, click here: https://amcham.glueup.cn/my/events/50240
LOCATION:Washington Room, AmCham China - 中国北京市朝阳区工人体育场北路甲2号裙房3层304-8单元 Beijing - Chaoyang District - China
BEGIN:VALARM
TRIGGER:-PT48H
REPEAT:4
DURATION:PT30M
ACTION:DISPLAY
END:VALARM
END:VEVENT
END:VCALENDAR