BEGIN:VCALENDAR
VERSION:2.0
PRODID:GlueUp
CALSCALE:GREGORIAN
BEGIN:VTIMEZONE
TZID:UTC
BEGIN:STANDARD
DTSTART:19700101T000000
TZOFFSETFROM:+0000
TZOFFSETTO:+0000
TZNAME:UTC
END:STANDARD
END:VTIMEZONE
BEGIN:VEVENT
TZ:+00
ORGANIZER;CN=Melody Wen:MAILTO:mwen@amchamchina.org
UID:45841-1776639936@https://amcham.glueup.cn
DTSTAMP:20260419T230536Z
DTSTART:20241217T010000Z
DTEND:20241218T080000Z
SUMMARY:[Beijing, CN] Achieving Team Collaboration
DESCRIPTION:[Beijing, CN] Achieving Team Collaboration by AmCham China\n\nDec 17 & 18, 2024(GMT+8)\n\nFor more information, click here: https://amcham.glueup.cn/my/events/45841
LOCATION:北京招商局大厦 - 北京市朝阳区建国路118号 Beijing - China
BEGIN:VALARM
TRIGGER:-PT48H
REPEAT:4
DURATION:PT30M
ACTION:DISPLAY
END:VALARM
END:VEVENT
END:VCALENDAR