BEGIN:VCALENDAR
VERSION:2.0
PRODID:GlueUp
CALSCALE:GREGORIAN
BEGIN:VTIMEZONE
TZID:UTC
BEGIN:STANDARD
DTSTART:19700101T000000
TZOFFSETFROM:+0000
TZOFFSETTO:+0000
TZNAME:UTC
END:STANDARD
END:VTIMEZONE
BEGIN:VEVENT
TZ:+00
ORGANIZER;CN=Yoyo Wu:MAILTO:ywu@amchamchina.org
UID:45949-1776640436@https://amcham.glueup.cn
DTSTAMP:20260419T231356Z
DTSTART:20241220T100000Z
DTEND:20241220T130000Z
SUMMARY:[Beijing] AmCham China Christmas Gathering
DESCRIPTION:[Beijing] AmCham China Christmas Gathering by AmCham China\n\nDec 20, 2024 (6:00 PM - 9:00 PM)(GMT+8)\n\nFor more information, click here: https://amcham.glueup.cn/my/events/45949
LOCATION:Eudora Station 亿多瑞站 - 6# FangYuan West Rd. Chaoyang District - 北京市朝阳区芳园西路6号 Beijing - China
BEGIN:VALARM
TRIGGER:-PT48H
REPEAT:4
DURATION:PT30M
ACTION:DISPLAY
END:VALARM
END:VEVENT
END:VCALENDAR