BEGIN:VCALENDAR
VERSION:2.0
PRODID:GlueUp
CALSCALE:GREGORIAN
BEGIN:VTIMEZONE
TZID:UTC
BEGIN:STANDARD
DTSTART:19700101T000000
TZOFFSETFROM:+0000
TZOFFSETTO:+0000
TZNAME:UTC
END:STANDARD
END:VTIMEZONE
BEGIN:VEVENT
TZ:+00
ORGANIZER;CN=Yin Yu:MAILTO:yyu@amchamchina.org
UID:43634-1776696160@https://amcham.glueup.cn
DTSTAMP:20260420T144240Z
DTSTART:20240429T100000Z
DTEND:20240429T123000Z
SUMMARY:AmCham China Supply Chain Navigator Program Mixer & Info Session
DESCRIPTION:AmCham China Supply Chain Navigator Program Mixer & Info Session by AmCham China\n\nApr 29, 2024 (6:00 PM - 8:30 PM)(GMT+8)\n\nFor more information, click here: https://amcham.glueup.cn/my/events/43634
LOCATION:京A Taproom(CBD) - 光华路1号1层 L108、L109 Beijing - China
BEGIN:VALARM
TRIGGER:-PT48H
REPEAT:4
DURATION:PT30M
ACTION:DISPLAY
END:VALARM
END:VEVENT
END:VCALENDAR