BEGIN:VCALENDAR
VERSION:2.0
PRODID:GlueUp
CALSCALE:GREGORIAN
BEGIN:VTIMEZONE
TZID:UTC
BEGIN:STANDARD
DTSTART:19700101T000000
TZOFFSETFROM:+0000
TZOFFSETTO:+0000
TZNAME:UTC
END:STANDARD
END:VTIMEZONE
BEGIN:VEVENT
TZ:+00
ORGANIZER;CN=Wei Wei:MAILTO:wwei@amchamchina.org
UID:41900-1776733930@https://amcham.glueup.cn
DTSTAMP:20260421T011210Z
DTSTART:20231031T100000Z
DTEND:20231031T123000Z
SUMMARY:AmCham China Southwest Chapter Official Opening Event
DESCRIPTION:AmCham China Southwest Chapter Official Opening Event by AmCham China\n\nOct 31, 2023 (6:00 PM - 8:30 PM)(GMT+8)\n\nFor more information, click here: https://amcham.glueup.cn/my/events/41900
LOCATION:The St. Regis Chengdu - 2F Astor Ballroom - the St. Regis Chengdu. 88 TaiSheng Road South - Qingyang District - Chengdu - Sichuan Province. - 四川省成都市青羊区太升南路 88 号 成都瑞吉酒店 二楼阿斯特宴会厅 Chengdu - Sichuan - China
BEGIN:VALARM
TRIGGER:-PT48H
REPEAT:4
DURATION:PT30M
ACTION:DISPLAY
END:VALARM
END:VEVENT
END:VCALENDAR