BEGIN:VCALENDAR
VERSION:2.0
PRODID:GlueUp
CALSCALE:GREGORIAN
BEGIN:VTIMEZONE
TZID:UTC
BEGIN:STANDARD
DTSTART:19700101T000000
TZOFFSETFROM:+0000
TZOFFSETTO:+0000
TZNAME:UTC
END:STANDARD
END:VTIMEZONE
BEGIN:VEVENT
TZ:+00
ORGANIZER;CN=Xi Wang:MAILTO:xwang@amchamchina.org
UID:47061-1776612971@https://amcham.glueup.cn
DTSTAMP:20260419T153611Z
DTSTART:20250522T013000Z
DTEND:20250523T100000Z
SUMMARY:AmCham China Healthcare Industry Group Delegation Visit to Tianjin 2025
DESCRIPTION:AmCham China Healthcare Industry Group Delegation Visit to Tianjin 2025 by AmCham China\n\nMay 22 & 23, 2025(GMT+8)\n\nFor more information, click here: https://amcham.glueup.cn/my/events/47061
LOCATION:天津 - 天津市丽思卡尔顿酒店 天津市 - China
BEGIN:VALARM
TRIGGER:-PT48H
REPEAT:4
DURATION:PT30M
ACTION:DISPLAY
END:VALARM
END:VEVENT
END:VCALENDAR