BEGIN:VCALENDAR
VERSION:2.0
PRODID:GlueUp
CALSCALE:GREGORIAN
BEGIN:VTIMEZONE
TZID:UTC
BEGIN:STANDARD
DTSTART:19700101T000000
TZOFFSETFROM:+0000
TZOFFSETTO:+0000
TZNAME:UTC
END:STANDARD
END:VTIMEZONE
BEGIN:VEVENT
TZ:+00
ORGANIZER;CN=Xi Wang:MAILTO:xwang@amchamchina.org
UID:43093-1776702671@https://amcham.glueup.cn
DTSTAMP:20260420T163111Z
DTSTART:20240319T010000Z
DTEND:20240319T090000Z
SUMMARY:AmCham China Healthcare Industry Group Delegation Visit to Tianjin 2024
DESCRIPTION:AmCham China Healthcare Industry Group Delegation Visit to Tianjin 2024 by AmCham China\n\nMar 19, 2024 (9:00 AM - 5:00 PM)(GMT+8)\n\nFor more information, click here: https://amcham.glueup.cn/my/events/43093
LOCATION:天津 - 天津市香格里拉酒店 天津市 - China
BEGIN:VALARM
TRIGGER:-PT48H
REPEAT:4
DURATION:PT30M
ACTION:DISPLAY
END:VALARM
END:VEVENT
END:VCALENDAR