BEGIN:VCALENDAR
VERSION:2.0
PRODID:GlueUp
CALSCALE:GREGORIAN
BEGIN:VTIMEZONE
TZID:UTC
BEGIN:STANDARD
DTSTART:19700101T000000
TZOFFSETFROM:+0000
TZOFFSETTO:+0000
TZNAME:UTC
END:STANDARD
END:VTIMEZONE
BEGIN:VEVENT
TZ:+00
ORGANIZER;CN=Xi Wang:MAILTO:xwang@amchamchina.org
UID:43501-1776689465@https://amcham.glueup.cn
DTSTAMP:20260420T125105Z
DTSTART:20240530T010000Z
DTEND:20240531T090000Z
SUMMARY:AmCham China Healthcare Industry Group Delegation Visit to Sichuan 2024
DESCRIPTION:AmCham China Healthcare Industry Group Delegation Visit to Sichuan 2024 by AmCham China\n\nMay 30 & 31, 2024(GMT+8)\n\nFor more information, click here: https://amcham.glueup.cn/my/events/43501
LOCATION:Chengdu - Chengdu - Sichuan - China
BEGIN:VALARM
TRIGGER:-PT48H
REPEAT:4
DURATION:PT30M
ACTION:DISPLAY
END:VALARM
END:VEVENT
END:VCALENDAR