BEGIN:VCALENDAR
VERSION:2.0
PRODID:GlueUp
CALSCALE:GREGORIAN
BEGIN:VTIMEZONE
TZID:UTC
BEGIN:STANDARD
DTSTART:19700101T000000
TZOFFSETFROM:+0000
TZOFFSETTO:+0000
TZNAME:UTC
END:STANDARD
END:VTIMEZONE
BEGIN:VEVENT
TZ:+00
ORGANIZER;CN=Xi Wang:MAILTO:xwang@amchamchina.org
UID:43483-1776696341@https://amcham.glueup.cn
DTSTAMP:20260420T144541Z
DTSTART:20240410T010000Z
DTEND:20240410T090000Z
SUMMARY:AmCham China Healthcare Industry Group Delegation Visit to Shanghai 2024
DESCRIPTION:AmCham China Healthcare Industry Group Delegation Visit to Shanghai 2024 by AmCham China\n\nApr 10, 2024 (9:00 AM - 5:00 PM)(GMT+8)\n\nFor more information, click here: https://amcham.glueup.cn/my/events/43483
LOCATION:Shanghai - Shanghai - China
BEGIN:VALARM
TRIGGER:-PT48H
REPEAT:4
DURATION:PT30M
ACTION:DISPLAY
END:VALARM
END:VEVENT
END:VCALENDAR