BEGIN:VCALENDAR
VERSION:2.0
PRODID:GlueUp
CALSCALE:GREGORIAN
BEGIN:VTIMEZONE
TZID:UTC
BEGIN:STANDARD
DTSTART:19700101T000000
TZOFFSETFROM:+0000
TZOFFSETTO:+0000
TZNAME:UTC
END:STANDARD
END:VTIMEZONE
BEGIN:VEVENT
TZ:+00
ORGANIZER;CN=Xi Wang:MAILTO:xwang@amchamchina.org
UID:46222-1776626658@https://amcham.glueup.cn
DTSTAMP:20260419T192418Z
DTSTART:20250220T010000Z
DTEND:20250221T100000Z
SUMMARY:AmCham China Healthcare Industry Group Delegation Visit to Shaanxi 2025
DESCRIPTION:AmCham China Healthcare Industry Group Delegation Visit to Shaanxi 2025 by AmCham China\n\nFeb 20 & 21, 2025(GMT+8)\n\nFor more information, click here: https://amcham.glueup.cn/my/events/46222
LOCATION:西安 - 西安市 - 陕西省西安市 - China
BEGIN:VALARM
TRIGGER:-PT48H
REPEAT:4
DURATION:PT30M
ACTION:DISPLAY
END:VALARM
END:VEVENT
END:VCALENDAR