BEGIN:VCALENDAR
VERSION:2.0
PRODID:GlueUp
CALSCALE:GREGORIAN
BEGIN:VTIMEZONE
TZID:UTC
BEGIN:STANDARD
DTSTART:19700101T000000
TZOFFSETFROM:+0000
TZOFFSETTO:+0000
TZNAME:UTC
END:STANDARD
END:VTIMEZONE
BEGIN:VEVENT
TZ:+00
ORGANIZER;CN=Xi Wang:MAILTO:xwang@amchamchina.org
UID:46705-1776619377@https://amcham.glueup.cn
DTSTAMP:20260419T172257Z
DTSTART:20250331T010000Z
DTEND:20250401T100000Z
SUMMARY:AmCham China Healthcare Industry Group Delegation Visit to Hunan 2025
DESCRIPTION:AmCham China Healthcare Industry Group Delegation Visit to Hunan 2025 by AmCham China\n\nMar 31 & Apr 1, 2025(GMT+8)\n\nFor more information, click here: https://amcham.glueup.cn/my/events/46705
LOCATION:长沙 - 长沙市 - 湖南省长沙市 - China
BEGIN:VALARM
TRIGGER:-PT48H
REPEAT:4
DURATION:PT30M
ACTION:DISPLAY
END:VALARM
END:VEVENT
END:VCALENDAR