BEGIN:VCALENDAR
VERSION:2.0
PRODID:GlueUp
CALSCALE:GREGORIAN
BEGIN:VTIMEZONE
TZID:UTC
BEGIN:STANDARD
DTSTART:19700101T000000
TZOFFSETFROM:+0000
TZOFFSETTO:+0000
TZNAME:UTC
END:STANDARD
END:VTIMEZONE
BEGIN:VEVENT
TZ:+00
ORGANIZER;CN=Xi Wang:MAILTO:xwang@amchamchina.org
UID:46113-1776633140@https://amcham.glueup.cn
DTSTAMP:20260419T211220Z
DTSTART:20250116T010000Z
DTEND:20250117T090000Z
SUMMARY:AmCham China Healthcare Industry Group Delegation Visit to Hubei 2025
DESCRIPTION:AmCham China Healthcare Industry Group Delegation Visit to Hubei 2025 by AmCham China\n\nJan 16 & 17, 2025(GMT+8)\n\nFor more information, click here: https://amcham.glueup.cn/my/events/46113
LOCATION:湖北省医保局 - 湖北省武汉市武昌区中北路101号海山金谷办公写字楼5楼 武汉市 - China
BEGIN:VALARM
TRIGGER:-PT48H
REPEAT:4
DURATION:PT30M
ACTION:DISPLAY
END:VALARM
END:VEVENT
END:VCALENDAR