BEGIN:VCALENDAR
VERSION:2.0
PRODID:GlueUp
CALSCALE:GREGORIAN
BEGIN:VTIMEZONE
TZID:UTC
BEGIN:STANDARD
DTSTART:19700101T000000
TZOFFSETFROM:+0000
TZOFFSETTO:+0000
TZNAME:UTC
END:STANDARD
END:VTIMEZONE
BEGIN:VEVENT
TZ:+00
ORGANIZER;CN=Xi Wang:MAILTO:xwang@amchamchina.org
UID:46227-1776619378@https://amcham.glueup.cn
DTSTAMP:20260419T172258Z
DTSTART:20250303T010000Z
DTEND:20250304T100000Z
SUMMARY:AmCham China Healthcare Industry Group Delegation Visit to Anhui 2025
DESCRIPTION:AmCham China Healthcare Industry Group Delegation Visit to Anhui 2025 by 中国美国商会\n\nMar 3 & 4, 2025(GMT+8)\n\nFor more information, click here: https://amcham.glueup.cn/my/events/46227
LOCATION:合肥 - 合肥市 - 安徽省合肥市 - China
BEGIN:VALARM
TRIGGER:-PT48H
REPEAT:4
DURATION:PT30M
ACTION:DISPLAY
END:VALARM
END:VEVENT
END:VCALENDAR