BEGIN:VCALENDAR
VERSION:2.0
PRODID:GlueUp
CALSCALE:GREGORIAN
BEGIN:VTIMEZONE
TZID:UTC
BEGIN:STANDARD
DTSTART:19700101T000000
TZOFFSETFROM:+0000
TZOFFSETTO:+0000
TZNAME:UTC
END:STANDARD
END:VTIMEZONE
BEGIN:VEVENT
TZ:+00
ORGANIZER;CN=Ada Yang:MAILTO:ayang@amchamchina.org
UID:43515-1776689406@https://amcham.glueup.cn
DTSTAMP:20260420T125006Z
DTSTART:20240528T053000Z
DTEND:20240528T103000Z
SUMMARY:AmCham China  Financial and Investment Forum
DESCRIPTION:AmCham China  Financial and Investment Forum by AmCham China\n\nMay 28, 2024 (1:30 PM - 6:30 PM)(GMT+8)\n\nFor more information, click here: https://amcham.glueup.cn/my/events/43515
LOCATION:Financial Street Center - Beijing - China
BEGIN:VALARM
TRIGGER:-PT48H
REPEAT:4
DURATION:PT30M
ACTION:DISPLAY
END:VALARM
END:VEVENT
END:VCALENDAR