BEGIN:VCALENDAR
VERSION:2.0
PRODID:GlueUp
CALSCALE:GREGORIAN
BEGIN:VTIMEZONE
TZID:UTC
BEGIN:STANDARD
DTSTART:19700101T000000
TZOFFSETFROM:+0000
TZOFFSETTO:+0000
TZNAME:UTC
END:STANDARD
END:VTIMEZONE
BEGIN:VEVENT
TZ:+00
ORGANIZER;CN=Yuning Xu:MAILTO:yxu@amchamchina.org
UID:44607-1776697233@https://amcham.glueup.cn
DTSTAMP:20260420T150033Z
DTSTART:20240827T060000Z
DTEND:20240827T103000Z
SUMMARY:AmCham China 2024 Social Impact Summit
DESCRIPTION:AmCham China 2024 Social Impact Summit by AmCham China\n\nAug 27, 2024 (2:00 PM - 6:30 PM)(GMT+8)\n\nFor more information, click here: https://amcham.glueup.cn/my/events/44607
LOCATION:Infinity Ballroom, Hilton Hotel Beijing - No. 1 Dong Fang Road - North Dong Sanhuan Road - Chaoyang District Beijing - China
BEGIN:VALARM
TRIGGER:-PT48H
REPEAT:4
DURATION:PT30M
ACTION:DISPLAY
END:VALARM
END:VEVENT
END:VCALENDAR