BEGIN:VCALENDAR
VERSION:2.0
PRODID:GlueUp
CALSCALE:GREGORIAN
BEGIN:VTIMEZONE
TZID:UTC
BEGIN:STANDARD
DTSTART:19700101T000000
TZOFFSETFROM:+0000
TZOFFSETTO:+0000
TZNAME:UTC
END:STANDARD
END:VTIMEZONE
BEGIN:VEVENT
TZ:+00
ORGANIZER;CN=Yang Bai:MAILTO:ybai@amchamchina.org
UID:26940-1777141918@https://amcham.glueup.cn
DTSTAMP:20260425T183158Z
DTSTART:20200605T003000Z
DTEND:20200630T033500Z
SUMMARY:AmCham China 2020 Government Affairs Annual Conference
DESCRIPTION:AmCham China 2020 Government Affairs Annual Conference by AmCham China\n\nJun 5 - 30, 2020(GMT+8)\n\nFor more information, click here: https://amcham.glueup.cn/my/events/26940
LOCATION:Online - Beijing - China
BEGIN:VALARM
TRIGGER:-PT48H
REPEAT:4
DURATION:PT30M
ACTION:DISPLAY
END:VALARM
END:VEVENT
END:VCALENDAR