BEGIN:VCALENDAR
VERSION:2.0
PRODID:GlueUp
CALSCALE:GREGORIAN
BEGIN:VTIMEZONE
TZID:UTC
BEGIN:STANDARD
DTSTART:19700101T000000
TZOFFSETFROM:+0000
TZOFFSETTO:+0000
TZNAME:UTC
END:STANDARD
END:VTIMEZONE
BEGIN:VEVENT
TZ:+00
ORGANIZER;CN=Dana Lv:MAILTO:dlv@amchamchina.org
UID:5398-1776883579@https://amcham.glueup.cn
DTSTAMP:20260422T184619Z
DTSTART:20160628T000000Z
DTEND:20160628T103000Z
SUMMARY:AmCham China 17th Annual HR Conference
DESCRIPTION:AmCham China 17th Annual HR Conference by AmCham China\n\nJun 28, 2016 (8:00 AM - 6:30 PM)(GMT+8)\n\nFor more information, click here: https://amcham.glueup.cn/my/events/5398
LOCATION:Grand Ballroom, China World Hotel, Beijing - No. 1 Jianguomen Outer Street Beijing - China
BEGIN:VALARM
TRIGGER:-PT48H
REPEAT:4
DURATION:PT30M
ACTION:DISPLAY
END:VALARM
END:VEVENT
END:VCALENDAR