BEGIN:VCALENDAR
VERSION:2.0
PRODID:GlueUp
CALSCALE:GREGORIAN
BEGIN:VTIMEZONE
TZID:UTC
BEGIN:STANDARD
DTSTART:19700101T000000
TZOFFSETFROM:+0000
TZOFFSETTO:+0000
TZNAME:UTC
END:STANDARD
END:VTIMEZONE
BEGIN:VEVENT
TZ:+00
ORGANIZER;CN=Lily Rogers:MAILTO:lrogers@amchamchina.org
UID:5307-1777050325@https://amcham.glueup.cn
DTSTAMP:20260424T170525Z
DTSTART:20160429T003000Z
DTEND:20160429T044000Z
SUMMARY:US-China Patient Day
DESCRIPTION:US-China Patient Day by AmCham China\n\nApr 29, 2016 (8:30 AM - 12:40 PM)(GMT+8)\n\nFor more information, click here: https://amcham.glueup.cn/my/events/5307
LOCATION:PUMC Academic Hall - Peking University Medical College - No. 1 Shuaifu Yuan - Wangfujing - Dongcheng District - Beijing - China 100730 -  - 北京协和医院学术会堂 - ​王府井帅府园胡同1号 Beijing - China
BEGIN:VALARM
TRIGGER:-PT48H
REPEAT:4
DURATION:PT30M
ACTION:DISPLAY
END:VALARM
END:VEVENT
END:VCALENDAR