BEGIN:VCALENDAR
VERSION:2.0
PRODID:GlueUp
CALSCALE:GREGORIAN
BEGIN:VTIMEZONE
TZID:UTC
BEGIN:STANDARD
DTSTART:19700101T000000
TZOFFSETFROM:+0000
TZOFFSETTO:+0000
TZNAME:UTC
END:STANDARD
END:VTIMEZONE
BEGIN:VEVENT
TZ:+00
ORGANIZER;CN=Aurelia Kassatly:MAILTO:akassatly@amchamchina.org
UID:5276-1776765194@https://amcham.glueup.cn
DTSTAMP:20260421T095314Z
DTSTART:20160413T090000Z
DTEND:20160413T110000Z
SUMMARY:Meet The Embassy! Registration Closed. Tickets Sold Out.
DESCRIPTION:Meet The Embassy! Registration Closed. Tickets Sold Out. by AmCham China\n\nApr 13, 2016 (5:00 PM - 7:00 PM)(GMT+8)\n\nFor more information, click here: https://amcham.glueup.cn/my/events/5276
LOCATION:Embassy of the United States of America, Beijing - No. 55 An Jia Lou Lu 100600 Beijing - China
BEGIN:VALARM
TRIGGER:-PT48H
REPEAT:4
DURATION:PT30M
ACTION:DISPLAY
END:VALARM
END:VEVENT
END:VCALENDAR