BEGIN:VCALENDAR
VERSION:2.0
PRODID:GlueUp
CALSCALE:GREGORIAN
BEGIN:VTIMEZONE
TZID:UTC
BEGIN:STANDARD
DTSTART:19700101T000000
TZOFFSETFROM:+0000
TZOFFSETTO:+0000
TZNAME:UTC
END:STANDARD
END:VTIMEZONE
BEGIN:VEVENT
TZ:+00
ORGANIZER;CN=Yin Yu:MAILTO:yyu@amchamchina.org
UID:47115-1776765220@https://amcham.glueup.cn
DTSTAMP:20260421T095340Z
DTSTART:20250429T073000Z
DTEND:20250429T093000Z
SUMMARY:[In-Person, EN] Supply Chain Navigator Program - McDonald's Zero-Carbon Restaurant Visit
DESCRIPTION:[In-Person, EN] Supply Chain Navigator Program - McDonald's Zero-Carbon Restaurant Visit by AmCham China\n\nApr 29, 2025 (3:30 PM - 5:30 PM)(GMT+8)\n\nFor more information, click here: https://amcham.glueup.cn/my/events/47115
LOCATION:McDonald's (Shougang Park Branch), Shijingshan Road No.68, Shijingshan District, Beijing - 麦当劳北京首钢园群明湖得来速店（北京市石景山区石景山路68号首钢园制氧创新中心） Beijing - China
BEGIN:VALARM
TRIGGER:-PT48H
REPEAT:4
DURATION:PT30M
ACTION:DISPLAY
END:VALARM
END:VEVENT
END:VCALENDAR