BEGIN:VCALENDAR
VERSION:2.0
PRODID:GlueUp
CALSCALE:GREGORIAN
BEGIN:VTIMEZONE
TZID:UTC
BEGIN:STANDARD
DTSTART:19700101T000000
TZOFFSETFROM:+0000
TZOFFSETTO:+0000
TZNAME:UTC
END:STANDARD
END:VTIMEZONE
BEGIN:VEVENT
TZ:+00
ORGANIZER;CN=Melody Li:MAILTO:mli@amchamchina.org
UID:46956-1776763900@https://amcham.glueup.cn
DTSTAMP:20260421T093140Z
DTSTART:20250425T000000Z
DTEND:20250425T020000Z
SUMMARY:[Dalian, CN&EN] Executive Breakfast Briefing on the Latest Incentive Policy to Foreign Enterprises in Dalian
DESCRIPTION:[Dalian, CN&EN] Executive Breakfast Briefing on the Latest Incentive Policy to Foreign Enterprises in Dalian by AmCham China\n\nApr 25, 2025 (8:00 AM - 10:00 AM)(GMT+8)\n\nFor more information, click here: https://amcham.glueup.cn/my/events/46956
LOCATION:Huihai Restaurant, 40th floor of Four Seasons Dalian - No. 45 of Zhuyu Street - Zhongshan District - Dalian Dalian - Liaoning Province - China
BEGIN:VALARM
TRIGGER:-PT48H
REPEAT:4
DURATION:PT30M
ACTION:DISPLAY
END:VALARM
END:VEVENT
END:VCALENDAR