BEGIN:VCALENDAR
VERSION:2.0
PRODID:GlueUp
CALSCALE:GREGORIAN
BEGIN:VTIMEZONE
TZID:UTC
BEGIN:STANDARD
DTSTART:19700101T000000
TZOFFSETFROM:+0000
TZOFFSETTO:+0000
TZNAME:UTC
END:STANDARD
END:VTIMEZONE
BEGIN:VEVENT
TZ:+00
ORGANIZER;CN=Linda Cheng:MAILTO:lcheng@amchamchina.org
UID:46944-1776765281@https://amcham.glueup.cn
DTSTAMP:20260421T095441Z
DTSTART:20250425T053000Z
DTEND:20250425T090000Z
SUMMARY:[Tianjin, CN] Effective Workforce Reduction Strategies and Dispute Prevention
DESCRIPTION:[Tianjin, CN] Effective Workforce Reduction Strategies and Dispute Prevention by AmCham China\n\nApr 25, 2025 (1:30 PM - 5:00 PM)(GMT+8)\n\nFor more information, click here: https://amcham.glueup.cn/my/events/46944
LOCATION:TEC Meeting Room, 8F of Tianjin International Financial Center - No. 136 Chifeng Road Heping District Tianjin - China
BEGIN:VALARM
TRIGGER:-PT48H
REPEAT:4
DURATION:PT30M
ACTION:DISPLAY
END:VALARM
END:VEVENT
END:VCALENDAR