BEGIN:VCALENDAR
VERSION:2.0
PRODID:GlueUp
CALSCALE:GREGORIAN
BEGIN:VTIMEZONE
TZID:UTC
BEGIN:STANDARD
DTSTART:19700101T000000
TZOFFSETFROM:+0000
TZOFFSETTO:+0000
TZNAME:UTC
END:STANDARD
END:VTIMEZONE
BEGIN:VEVENT
TZ:+00
ORGANIZER;CN=Linda Cheng:MAILTO:lcheng@amchamchina.org
UID:46938-1776765283@https://amcham.glueup.cn
DTSTAMP:20260421T095443Z
DTSTART:20250424T094500Z
DTEND:20250424T120000Z
SUMMARY:[Tianjin, CN&EN] Strategies for Industry-Specific and Fiscal Incentive Policies
DESCRIPTION:[Tianjin, CN&EN] Strategies for Industry-Specific and Fiscal Incentive Policies by AmCham China\n\nApr 24, 2025 (5:45 PM - 8:00 PM)(GMT+8)\n\nFor more information, click here: https://amcham.glueup.cn/my/events/46938
LOCATION:Chinese Restaurant, 2 F of Renaissance Tianjin Lakeview Hotel - No. 16 Binshui Rd - Hexi District Tianjin - China
BEGIN:VALARM
TRIGGER:-PT48H
REPEAT:4
DURATION:PT30M
ACTION:DISPLAY
END:VALARM
END:VEVENT
END:VCALENDAR