BEGIN:VCALENDAR
VERSION:2.0
PRODID:GlueUp
CALSCALE:GREGORIAN
BEGIN:VTIMEZONE
TZID:UTC
BEGIN:STANDARD
DTSTART:19700101T000000
TZOFFSETFROM:+0000
TZOFFSETTO:+0000
TZNAME:UTC
END:STANDARD
END:VTIMEZONE
BEGIN:VEVENT
TZ:+00
ORGANIZER;CN=Xi Wang:MAILTO:xwang@amchamchina.org
UID:46930-1776765283@https://amcham.glueup.cn
DTSTAMP:20260421T095443Z
DTSTART:20250408T020000Z
DTEND:20250408T030000Z
SUMMARY:[Beijing, CN] Policy Readout on the Impact of China-U.S. Tariffs on Healthcare Companies
DESCRIPTION:[Beijing, CN] Policy Readout on the Impact of China-U.S. Tariffs on Healthcare Companies by AmCham China\n\nApr 8, 2025 (10:00 AM - 11:00 AM)(GMT+8)\n\nFor more information, click here: https://amcham.glueup.cn/my/events/46930
LOCATION:Washington Room, AmCham China - 中国北京市朝阳区工人体育场北路甲2号裙房3层304-8单元 Beijing - Chaoyang District - China
BEGIN:VALARM
TRIGGER:-PT48H
REPEAT:4
DURATION:PT30M
ACTION:DISPLAY
END:VALARM
END:VEVENT
END:VCALENDAR