BEGIN:VCALENDAR
VERSION:2.0
PRODID:GlueUp
CALSCALE:GREGORIAN
BEGIN:VTIMEZONE
TZID:UTC
BEGIN:STANDARD
DTSTART:19700101T000000
TZOFFSETFROM:+0000
TZOFFSETTO:+0000
TZNAME:UTC
END:STANDARD
END:VTIMEZONE
BEGIN:VEVENT
TZ:+00
ORGANIZER;CN=Linda Cheng:MAILTO:lcheng@amchamchina.org
UID:46850-1776765284@https://amcham.glueup.cn
DTSTAMP:20260421T095444Z
DTSTART:20250415T060000Z
DTEND:20250415T083000Z
SUMMARY:[Tianjin, CN] Practical Interpretation Breakthroughs for Corporate Ad-hoc Interpreters
DESCRIPTION:[Tianjin, CN] Practical Interpretation Breakthroughs for Corporate Ad-hoc Interpreters by AmCham China\n\nApr 15, 2025 (2:00 PM - 4:30 PM)(GMT+8)\n\nFor more information, click here: https://amcham.glueup.cn/my/events/46850
LOCATION:天津市和平区南京路189号津汇广场2座29层 大会议室 AmCham China Tianjin Meeting Room - 29F Exchange Tower 2， No. 189 Nanjing Road - Heping District Tianjin - China
BEGIN:VALARM
TRIGGER:-PT48H
REPEAT:4
DURATION:PT30M
ACTION:DISPLAY
END:VALARM
END:VEVENT
END:VCALENDAR