BEGIN:VCALENDAR
VERSION:2.0
PRODID:GlueUp
CALSCALE:GREGORIAN
BEGIN:VTIMEZONE
TZID:UTC
BEGIN:STANDARD
DTSTART:19700101T000000
TZOFFSETFROM:+0000
TZOFFSETTO:+0000
TZNAME:UTC
END:STANDARD
END:VTIMEZONE
BEGIN:VEVENT
TZ:+00
ORGANIZER;CN=Wei Wei:MAILTO:wwei@amchamchina.org
UID:46837-1776763850@https://amcham.glueup.cn
DTSTAMP:20260421T093050Z
DTSTART:20250409T013000Z
DTEND:20250409T040000Z
SUMMARY:[Chengdu, CN&EN] Best of Southwest: Lindström Chengdu Relocation Ceremony & Factory Tour
DESCRIPTION:[Chengdu, CN&EN] Best of Southwest: Lindström Chengdu Relocation Ceremony & Factory Tour by AmCham China\n\nApr 9, 2025 (9:30 AM - 12:00 PM)(GMT+8)\n\nFor more information, click here: https://amcham.glueup.cn/my/events/46837
LOCATION:成都市温江区海峡两岸科技开发园 - 1/F - Zone C - Building 1 - No.606 - Haike Road West - Wenjiang District - Chengdu - 成都市温江区海科路西段606号1栋C区01层 Sichuan - China
BEGIN:VALARM
TRIGGER:-PT48H
REPEAT:4
DURATION:PT30M
ACTION:DISPLAY
END:VALARM
END:VEVENT
END:VCALENDAR