BEGIN:VCALENDAR
VERSION:2.0
PRODID:GlueUp
CALSCALE:GREGORIAN
BEGIN:VTIMEZONE
TZID:UTC
BEGIN:STANDARD
DTSTART:19700101T000000
TZOFFSETFROM:+0000
TZOFFSETTO:+0000
TZNAME:UTC
END:STANDARD
END:VTIMEZONE
BEGIN:VEVENT
TZ:+00
ORGANIZER;CN=Wei Wei:MAILTO:wwei@amchamchina.org
UID:46779-1776765220@https://amcham.glueup.cn
DTSTAMP:20260421T095340Z
DTSTART:20250417T011500Z
DTEND:20250417T035000Z
SUMMARY:[Chengdu, CN&EN] Best of Southwest: Exclusive Tour & Exchange at Care Alliance Hetai Rehabilitation Hospital
DESCRIPTION:[Chengdu, CN&EN] Best of Southwest: Exclusive Tour & Exchange at Care Alliance Hetai Rehabilitation Hospital by AmCham China\n\nApr 17, 2025 (9:15 AM - 11:50 AM)(GMT+8)\n\nFor more information, click here: https://amcham.glueup.cn/my/events/46779
LOCATION:Care Alliance Hetai Rehabilitation Hospital of Chengdu Tianfu New Area - No. 999 - Wanfusi Road - Wanan Avenue - Shuangliu District - Chengdu - 成都市双流区万安街道万福寺路999号成都天府新区顾连禾泰康复医院 Sichuan - China
BEGIN:VALARM
TRIGGER:-PT48H
REPEAT:4
DURATION:PT30M
ACTION:DISPLAY
END:VALARM
END:VEVENT
END:VCALENDAR