BEGIN:VCALENDAR
VERSION:2.0
PRODID:GlueUp
CALSCALE:GREGORIAN
BEGIN:VTIMEZONE
TZID:UTC
BEGIN:STANDARD
DTSTART:19700101T000000
TZOFFSETFROM:+0000
TZOFFSETTO:+0000
TZNAME:UTC
END:STANDARD
END:VTIMEZONE
BEGIN:VEVENT
TZ:+00
ORGANIZER;CN=Yuning Xu:MAILTO:yxu@amchamchina.org
UID:46761-1776765284@https://amcham.glueup.cn
DTSTAMP:20260421T095444Z
DTSTART:20250411T063000Z
DTEND:20250411T083000Z
SUMMARY:[Beijing, CN&EN] Social Impact Initiative - Roundtable on US-China Corporate Low-Carbon Transition
DESCRIPTION:[Beijing, CN&EN] Social Impact Initiative - Roundtable on US-China Corporate Low-Carbon Transition by AmCham China\n\nApr 11, 2025 (2:30 PM - 4:30 PM)(GMT+8)\n\nFor more information, click here: https://amcham.glueup.cn/my/events/46761
LOCATION:The Twenty-First Century Hotel Beijing - 40 Liangmaqiao Road - Chaoyang District Beijing
BEGIN:VALARM
TRIGGER:-PT48H
REPEAT:4
DURATION:PT30M
ACTION:DISPLAY
END:VALARM
END:VEVENT
END:VCALENDAR