BEGIN:VCALENDAR
VERSION:2.0
PRODID:GlueUp
CALSCALE:GREGORIAN
BEGIN:VTIMEZONE
TZID:UTC
BEGIN:STANDARD
DTSTART:19700101T000000
TZOFFSETFROM:+0000
TZOFFSETTO:+0000
TZNAME:UTC
END:STANDARD
END:VTIMEZONE
BEGIN:VEVENT
TZ:+00
ORGANIZER;CN=Wei Wei:MAILTO:wwei@amchamchina.org
UID:46721-1776625192@https://amcham.glueup.cn
DTSTAMP:20260419T185952Z
DTSTART:20250327T091500Z
DTEND:20250327T103000Z
SUMMARY:[Chengdu, Hybrid, EN] 2025 AmCham China Southwest Chapter Business Sustainability Committee Kick-Off Meeting
DESCRIPTION:[Chengdu, Hybrid, EN] 2025 AmCham China Southwest Chapter Business Sustainability Committee Kick-Off Meeting by AmCham China\n\nMar 27, 2025 (5:15 PM - 6:30 PM)(GMT+8)\n\nFor more information, click here: https://amcham.glueup.cn/my/events/46721
LOCATION:The Executive Centre, 45/F, Tower 1, IFS Chengdu - 45/F - Tower 1 - IFS Chengdu - Dacisi Road - Shudu Avenue - Jinjiang District - Chengdu - 成都市锦江区蜀都大道大慈寺路成都国际金融中心一号办公楼45楼 Sichuan - China
BEGIN:VALARM
TRIGGER:-PT48H
REPEAT:4
DURATION:PT30M
ACTION:DISPLAY
END:VALARM
END:VEVENT
END:VCALENDAR