BEGIN:VCALENDAR
VERSION:2.0
PRODID:GlueUp
CALSCALE:GREGORIAN
BEGIN:VTIMEZONE
TZID:UTC
BEGIN:STANDARD
DTSTART:19700101T000000
TZOFFSETFROM:+0000
TZOFFSETTO:+0000
TZNAME:UTC
END:STANDARD
END:VTIMEZONE
BEGIN:VEVENT
TZ:+00
ORGANIZER;CN=Yoyo Wu:MAILTO:ywu@amchamchina.org
UID:46697-1776779496@https://amcham.glueup.cn
DTSTAMP:20260421T135136Z
DTSTART:20250424T053000Z
DTEND:20250424T083000Z
SUMMARY:[Beijing, CN&EN] AI Revolution Empowering Business Engines - Technology Salon for Multinational Champions
DESCRIPTION:[Beijing, CN&EN] AI Revolution Empowering Business Engines - Technology Salon for Multinational Champions by AmCham China\n\nApr 24, 2025 (1:30 PM - 4:30 PM)(GMT+8)\n\nFor more information, click here: https://amcham.glueup.cn/my/events/46697
LOCATION:Capital Club 京城俱乐部 - 北京市朝阳区新源南路6号 Beijing - China
BEGIN:VALARM
TRIGGER:-PT48H
REPEAT:4
DURATION:PT30M
ACTION:DISPLAY
END:VALARM
END:VEVENT
END:VCALENDAR