BEGIN:VCALENDAR
VERSION:2.0
PRODID:GlueUp
CALSCALE:GREGORIAN
BEGIN:VTIMEZONE
TZID:UTC
BEGIN:STANDARD
DTSTART:19700101T000000
TZOFFSETFROM:+0000
TZOFFSETTO:+0000
TZNAME:UTC
END:STANDARD
END:VTIMEZONE
BEGIN:VEVENT
TZ:+00
ORGANIZER;CN=Linda Cheng:MAILTO:lcheng@amchamchina.org
UID:46651-1776625401@https://amcham.glueup.cn
DTSTAMP:20260419T190321Z
DTSTART:20250327T234500Z
DTEND:20250328T013000Z
SUMMARY:[Tianjin, EN] US-China Relations & 2025 Outlook - Monthly Breakfast Briefing
DESCRIPTION:[Tianjin, EN] US-China Relations & 2025 Outlook - Monthly Breakfast Briefing by AmCham China\n\nMar 28, 2025 (7:45 AM - 9:30 AM)(GMT+8)\n\nFor more information, click here: https://amcham.glueup.cn/my/events/46651
LOCATION:Summer and Autumn Room, 3th Floor of Four Seasons Hotel Tianjin - 3层夏秋厅，天津四季酒店，天津市和平区赤峰道138号 Tianjin - China
BEGIN:VALARM
TRIGGER:-PT48H
REPEAT:4
DURATION:PT30M
ACTION:DISPLAY
END:VALARM
END:VEVENT
END:VCALENDAR