BEGIN:VCALENDAR
VERSION:2.0
PRODID:GlueUp
CALSCALE:GREGORIAN
BEGIN:VTIMEZONE
TZID:UTC
BEGIN:STANDARD
DTSTART:19700101T000000
TZOFFSETFROM:+0000
TZOFFSETTO:+0000
TZNAME:UTC
END:STANDARD
END:VTIMEZONE
BEGIN:VEVENT
TZ:+00
ORGANIZER;CN=Wei Wei:MAILTO:wwei@amchamchina.org
UID:46356-1776631428@https://amcham.glueup.cn
DTSTAMP:20260419T204348Z
DTSTART:20250225T001500Z
DTEND:20250225T020000Z
SUMMARY:[Chengdu, EN] Executive Breakfast Briefing: 2025 China Business Climate Survey Report Launch
DESCRIPTION:[Chengdu, EN] Executive Breakfast Briefing: 2025 China Business Climate Survey Report Launch by AmCham China\n\nFeb 25, 2025 (8:15 AM - 10:00 AM)(GMT+8)\n\nFor more information, click here: https://amcham.glueup.cn/my/events/46356
LOCATION:Cube 3, 3/F, Fairmont Hotel Chengdu 成都棕榈泉费尔蒙酒店3楼Cube 3厅 - No. 269 - Tianfu Middle Avenue - Hi-Tech Zone - Chengdu - 成都市高新区天府大道中段269号 Chengdu - Sichuan - China
BEGIN:VALARM
TRIGGER:-PT48H
REPEAT:4
DURATION:PT30M
ACTION:DISPLAY
END:VALARM
END:VEVENT
END:VCALENDAR