BEGIN:VCALENDAR
VERSION:2.0
PRODID:GlueUp
CALSCALE:GREGORIAN
BEGIN:VTIMEZONE
TZID:UTC
BEGIN:STANDARD
DTSTART:19700101T000000
TZOFFSETFROM:+0000
TZOFFSETTO:+0000
TZNAME:UTC
END:STANDARD
END:VTIMEZONE
BEGIN:VEVENT
TZ:+00
ORGANIZER;CN=Dandan Li:MAILTO:dli@amchamchina.org
UID:46350-1776625332@https://amcham.glueup.cn
DTSTAMP:20260419T190212Z
DTSTART:20250228T063000Z
DTEND:20250228T100000Z
SUMMARY:[Beijing, EN&CN] Outlook on China's Overall Economy in 2025 and Emerging Trends in Real Estate
DESCRIPTION:[Beijing, EN&CN] Outlook on China's Overall Economy in 2025 and Emerging Trends in Real Estate by AmCham China\n\nFeb 28, 2025 (2:30 PM - 6:00 PM)(GMT+8)\n\nFor more information, click here: https://amcham.glueup.cn/my/events/46350
LOCATION:8th Floor, China Life Financial Center (国寿金融中心8层) - No. 23 Zhenzhi Road - Chaoyang District Beijing - China
BEGIN:VALARM
TRIGGER:-PT48H
REPEAT:4
DURATION:PT30M
ACTION:DISPLAY
END:VALARM
END:VEVENT
END:VCALENDAR