BEGIN:VCALENDAR
VERSION:2.0
PRODID:GlueUp
CALSCALE:GREGORIAN
BEGIN:VTIMEZONE
TZID:UTC
BEGIN:STANDARD
DTSTART:19700101T000000
TZOFFSETFROM:+0000
TZOFFSETTO:+0000
TZNAME:UTC
END:STANDARD
END:VTIMEZONE
BEGIN:VEVENT
TZ:+00
ORGANIZER;CN=Linda Cheng:MAILTO:lcheng@amchamchina.org
UID:46291-1776631535@https://amcham.glueup.cn
DTSTAMP:20260419T204535Z
DTSTART:20250228T083000Z
DTEND:20250228T114000Z
SUMMARY:[Tianjin] Women Shaping a Community of Mutual Support - Tianjin WPC 2025 Kickoff
DESCRIPTION:[Tianjin] Women Shaping a Community of Mutual Support - Tianjin WPC 2025 Kickoff by AmCham China\n\nFeb 28, 2025 (4:30 PM - 7:40 PM)(GMT+8)\n\nFor more information, click here: https://amcham.glueup.cn/my/events/46291
LOCATION:The Tang 樘院 (Wu Da Dao) - 天津和平区大理道5号
BEGIN:VALARM
TRIGGER:-PT48H
REPEAT:4
DURATION:PT30M
ACTION:DISPLAY
END:VALARM
END:VEVENT
END:VCALENDAR