BEGIN:VCALENDAR
VERSION:2.0
PRODID:GlueUp
CALSCALE:GREGORIAN
BEGIN:VTIMEZONE
TZID:UTC
BEGIN:STANDARD
DTSTART:19700101T000000
TZOFFSETFROM:+0000
TZOFFSETTO:+0000
TZNAME:UTC
END:STANDARD
END:VTIMEZONE
BEGIN:VEVENT
TZ:+00
ORGANIZER;CN=AmCham China:MAILTO:amcham@amchamchina.org
UID:46249-1776625182@https://amcham.glueup.cn
DTSTAMP:20260419T185942Z
DTSTART:20250225T034500Z
DTEND:20250225T061500Z
SUMMARY:[Dalian, CN] Key Tax Insights: International Management & New Company Law Updates
DESCRIPTION:[Dalian, CN] Key Tax Insights: International Management & New Company Law Updates by AmCham China\n\nFeb 25, 2025 (11:45 AM - 2:15 PM)(GMT+8)\n\nFor more information, click here: https://amcham.glueup.cn/my/events/46249
LOCATION:Movie theatre, Building No.1, Ascendas IT Park, Dalian - Dalian - Liaoning Province - China
BEGIN:VALARM
TRIGGER:-PT48H
REPEAT:4
DURATION:PT30M
ACTION:DISPLAY
END:VALARM
END:VEVENT
END:VCALENDAR