BEGIN:VCALENDAR
VERSION:2.0
PRODID:GlueUp
CALSCALE:GREGORIAN
BEGIN:VTIMEZONE
TZID:UTC
BEGIN:STANDARD
DTSTART:19700101T000000
TZOFFSETFROM:+0000
TZOFFSETTO:+0000
TZNAME:UTC
END:STANDARD
END:VTIMEZONE
BEGIN:VEVENT
TZ:+00
ORGANIZER;CN=Yin Yu:MAILTO:yyu@amchamchina.org
UID:46245-1776631542@https://amcham.glueup.cn
DTSTAMP:20260419T204542Z
DTSTART:20250213T080000Z
DTEND:20250213T093000Z
SUMMARY:[Beijing, EN] Navigating US-China Relations: Business Strategies and Career Pathways for Young Professionals
DESCRIPTION:[Beijing, EN] Navigating US-China Relations: Business Strategies and Career Pathways for Young Professionals by AmCham China\n\nFeb 13, 2025 (4:00 PM - 5:30 PM)(GMT+8)\n\nFor more information, click here: https://amcham.glueup.cn/my/events/46245
LOCATION:AmCham China Washington Room - 3F - East Gate 1 - Pacific Century Place - 2A Workers' Stadium North Road - 北京市朝阳区工体北路甲2号盈科中心东一门3层。 Chaoyang District - China
BEGIN:VALARM
TRIGGER:-PT48H
REPEAT:4
DURATION:PT30M
ACTION:DISPLAY
END:VALARM
END:VEVENT
END:VCALENDAR