BEGIN:VCALENDAR
VERSION:2.0
PRODID:GlueUp
CALSCALE:GREGORIAN
BEGIN:VTIMEZONE
TZID:UTC
BEGIN:STANDARD
DTSTART:19700101T000000
TZOFFSETFROM:+0000
TZOFFSETTO:+0000
TZNAME:UTC
END:STANDARD
END:VTIMEZONE
BEGIN:VEVENT
TZ:+00
ORGANIZER;CN=Christine Chen:MAILTO:christine.chen@amchamchina.org
UID:46242-1776631652@https://amcham.glueup.cn
DTSTAMP:20260419T204732Z
DTSTART:20250207T010000Z
DTEND:20250207T080000Z
SUMMARY:[Tianjin, CN] Light Up the Curiosity and Dream with Science -- Tianjin University Exploration Tour
DESCRIPTION:[Tianjin, CN] Light Up the Curiosity and Dream with Science -- Tianjin University Exploration Tour by AmCham China\n\nFeb 7, 2025 (9:00 AM - 4:00 PM)(GMT+8)\n\nFor more information, click here: https://amcham.glueup.cn/my/events/46242
LOCATION:The Exchange Tower 2 - No. 189 Nanjing Road - Heping District - 天津市和平区南京路189号津汇广场2座 Tianjin - China
BEGIN:VALARM
TRIGGER:-PT48H
REPEAT:4
DURATION:PT30M
ACTION:DISPLAY
END:VALARM
END:VEVENT
END:VCALENDAR