BEGIN:VCALENDAR
VERSION:2.0
PRODID:GlueUp
CALSCALE:GREGORIAN
BEGIN:VTIMEZONE
TZID:UTC
BEGIN:STANDARD
DTSTART:19700101T000000
TZOFFSETFROM:+0000
TZOFFSETTO:+0000
TZNAME:UTC
END:STANDARD
END:VTIMEZONE
BEGIN:VEVENT
TZ:+00
ORGANIZER;CN=Linda Cheng:MAILTO:lcheng@amchamchina.org
UID:46152-1776632605@https://amcham.glueup.cn
DTSTAMP:20260419T210325Z
DTSTART:20250123T234500Z
DTEND:20250124T020000Z
SUMMARY:[Tianjin, EN] 2025 China Business Climate Survey Report Tianjin Launch -  Monthly Executive Breakfast Briefing
DESCRIPTION:[Tianjin, EN] 2025 China Business Climate Survey Report Tianjin Launch -  Monthly Executive Breakfast Briefing by AmCham China\n\nJan 24, 2025 (7:45 AM - 10:00 AM)(GMT+8)\n\nFor more information, click here: https://amcham.glueup.cn/my/events/46152
LOCATION:Plum & Orchid Room, 5F of Four Seasons Hotel Tianjin - 天津市四季酒店5层梅兰厅 Tianjin - China
BEGIN:VALARM
TRIGGER:-PT48H
REPEAT:4
DURATION:PT30M
ACTION:DISPLAY
END:VALARM
END:VEVENT
END:VCALENDAR