BEGIN:VCALENDAR
VERSION:2.0
PRODID:GlueUp
CALSCALE:GREGORIAN
BEGIN:VTIMEZONE
TZID:UTC
BEGIN:STANDARD
DTSTART:19700101T000000
TZOFFSETFROM:+0000
TZOFFSETTO:+0000
TZNAME:UTC
END:STANDARD
END:VTIMEZONE
BEGIN:VEVENT
TZ:+00
ORGANIZER;CN=Xi Wang:MAILTO:xwang@amchamchina.org
UID:45959-1776639056@https://amcham.glueup.cn
DTSTAMP:20260419T225056Z
DTSTART:20241230T060000Z
DTEND:20241230T080000Z
SUMMARY:[Beijing, CN] Healthcare Roundtable with Beijing Tianzhu Comprehensive Bonded Zone
DESCRIPTION:[Beijing, CN] Healthcare Roundtable with Beijing Tianzhu Comprehensive Bonded Zone by AmCham China\n\nDec 30, 2024 (2:00 PM - 4:00 PM)(GMT+8)\n\nFor more information, click here: https://amcham.glueup.cn/my/events/45959
LOCATION:Washington Room, AmCham China - AmCham China Beijing - China
BEGIN:VALARM
TRIGGER:-PT48H
REPEAT:4
DURATION:PT30M
ACTION:DISPLAY
END:VALARM
END:VEVENT
END:VCALENDAR