BEGIN:VCALENDAR
VERSION:2.0
PRODID:GlueUp
CALSCALE:GREGORIAN
BEGIN:VTIMEZONE
TZID:UTC
BEGIN:STANDARD
DTSTART:19700101T000000
TZOFFSETFROM:+0000
TZOFFSETTO:+0000
TZNAME:UTC
END:STANDARD
END:VTIMEZONE
BEGIN:VEVENT
TZ:+00
ORGANIZER;CN=Yuning Xu:MAILTO:yxu@amchamchina.org
UID:45747-1776646594@https://amcham.glueup.cn
DTSTAMP:20260420T005634Z
DTSTART:20241206T013000Z
DTEND:20241206T040000Z
SUMMARY:[Hybrid, CN&EN] Unpacking COP29: Global Goals, China's Path and Business Climate Action
DESCRIPTION:[Hybrid, CN&EN] Unpacking COP29: Global Goals, China's Path and Business Climate Action by AmCham China\n\nDec 6, 2024 (9:30 AM - 12:00 PM)(GMT+8)\n\nFor more information, click here: https://amcham.glueup.cn/my/events/45747
LOCATION:Washington Room, AmCham China Office - Pacific Century Place - Chaoyang District - Beijing 北京市朝阳区盈科中心) Beijing - Chaoyang District - China
BEGIN:VALARM
TRIGGER:-PT48H
REPEAT:4
DURATION:PT30M
ACTION:DISPLAY
END:VALARM
END:VEVENT
END:VCALENDAR