BEGIN:VCALENDAR
VERSION:2.0
PRODID:GlueUp
CALSCALE:GREGORIAN
BEGIN:VTIMEZONE
TZID:UTC
BEGIN:STANDARD
DTSTART:19700101T000000
TZOFFSETFROM:+0000
TZOFFSETTO:+0000
TZNAME:UTC
END:STANDARD
END:VTIMEZONE
BEGIN:VEVENT
TZ:+00
ORGANIZER;CN=Linda Cheng:MAILTO:lcheng@amchamchina.org
UID:45737-1776647306@https://amcham.glueup.cn
DTSTAMP:20260420T010826Z
DTSTART:20241126T013000Z
DTEND:20241126T033000Z
SUMMARY:[Tianjin, CN & EN] Market Insights & Strategy for Foreign Enterprises in China  & Visit to PPG Global Coatings Innovation Institute
DESCRIPTION:[Tianjin, CN & EN] Market Insights & Strategy for Foreign Enterprises in China  & Visit to PPG Global Coatings Innovation Institute by AmCham China\n\nNov 26, 2024 (9:30 AM - 11:30 AM)(GMT+8)\n\nFor more information, click here: https://amcham.glueup.cn/my/events/45737
LOCATION:PPG Global Coatings Innovation Institute - No. 69 - Seventh Avenue - TEDA Tianjin - China
BEGIN:VALARM
TRIGGER:-PT48H
REPEAT:4
DURATION:PT30M
ACTION:DISPLAY
END:VALARM
END:VEVENT
END:VCALENDAR