BEGIN:VCALENDAR
VERSION:2.0
PRODID:GlueUp
CALSCALE:GREGORIAN
BEGIN:VTIMEZONE
TZID:UTC
BEGIN:STANDARD
DTSTART:19700101T000000
TZOFFSETFROM:+0000
TZOFFSETTO:+0000
TZNAME:UTC
END:STANDARD
END:VTIMEZONE
BEGIN:VEVENT
TZ:+00
ORGANIZER;CN=Xi Wang:MAILTO:xwang@amchamchina.org
UID:45708-1776639776@https://amcham.glueup.cn
DTSTAMP:20260419T230256Z
DTSTART:20241130T003000Z
DTEND:20241201T090000Z
SUMMARY:[Beijing, In-Person, CN] The 2024 Peking University Forum on Medical Innovation and High-quality Development
DESCRIPTION:[Beijing, In-Person, CN] The 2024 Peking University Forum on Medical Innovation and High-quality Development by AmCham China\n\nNov 30 & Dec 1, 2024(GMT+8)\n\nFor more information, click here: https://amcham.glueup.cn/my/events/45708
LOCATION:北京大学政府管理学院 - 342会议室、207会议室、341会议室 - 北京大学政府管理学院 - 北京市海淀区颐和园路5号 Beijing - Haidian District - China
BEGIN:VALARM
TRIGGER:-PT48H
REPEAT:4
DURATION:PT30M
ACTION:DISPLAY
END:VALARM
END:VEVENT
END:VCALENDAR