BEGIN:VCALENDAR
VERSION:2.0
PRODID:GlueUp
CALSCALE:GREGORIAN
BEGIN:VTIMEZONE
TZID:UTC
BEGIN:STANDARD
DTSTART:19700101T000000
TZOFFSETFROM:+0000
TZOFFSETTO:+0000
TZNAME:UTC
END:STANDARD
END:VTIMEZONE
BEGIN:VEVENT
TZ:+00
ORGANIZER;CN=Mark Dreyer:MAILTO:mdreyer@amchamchina.org
UID:45691-1776646594@https://amcham.glueup.cn
DTSTAMP:20260420T005634Z
DTSTART:20241113T010000Z
DTEND:20241113T020000Z
SUMMARY:[Online, EN] Virtual Doorknock Series: What the New US Congress Means for American Business in Asia
DESCRIPTION:[Online, EN] Virtual Doorknock Series: What the New US Congress Means for American Business in Asia by AmCham China\n\nNov 13, 2024 (9:00 AM - 10:00 AM)(GMT+8)\n\nFor more information, click here: https://amcham.glueup.cn/my/events/45691
LOCATION:Online Event
BEGIN:VALARM
TRIGGER:-PT48H
REPEAT:4
DURATION:PT30M
ACTION:DISPLAY
END:VALARM
END:VEVENT
END:VCALENDAR